BEGIN:VCALENDAR
VERSION:2.0
PRODID:-//Sorrento Village - ECPv6.15.17.1//NONSGML v1.0//EN
CALSCALE:GREGORIAN
METHOD:PUBLISH
X-WR-CALNAME:Sorrento Village
X-ORIGINAL-URL:https://sorrento.org.au
X-WR-CALDESC:Events for Sorrento Village
REFRESH-INTERVAL;VALUE=DURATION:PT1H
X-Robots-Tag:noindex
X-PUBLISHED-TTL:PT1H
BEGIN:VTIMEZONE
TZID:Australia/Melbourne
BEGIN:STANDARD
TZOFFSETFROM:+1100
TZOFFSETTO:+1000
TZNAME:AEST
DTSTART:20240406T160000
END:STANDARD
BEGIN:DAYLIGHT
TZOFFSETFROM:+1000
TZOFFSETTO:+1100
TZNAME:AEDT
DTSTART:20241005T160000
END:DAYLIGHT
BEGIN:STANDARD
TZOFFSETFROM:+1100
TZOFFSETTO:+1000
TZNAME:AEST
DTSTART:20250405T160000
END:STANDARD
BEGIN:DAYLIGHT
TZOFFSETFROM:+1000
TZOFFSETTO:+1100
TZNAME:AEDT
DTSTART:20251004T160000
END:DAYLIGHT
BEGIN:STANDARD
TZOFFSETFROM:+1100
TZOFFSETTO:+1000
TZNAME:AEST
DTSTART:20260404T160000
END:STANDARD
BEGIN:DAYLIGHT
TZOFFSETFROM:+1000
TZOFFSETTO:+1100
TZNAME:AEDT
DTSTART:20261003T160000
END:DAYLIGHT
END:VTIMEZONE
BEGIN:VEVENT
DTSTART;TZID=Australia/Melbourne:20250606T170000
DTEND;TZID=Australia/Melbourne:20250606T210000
DTSTAMP:20260424T024631
CREATED:20250316T015355Z
LAST-MODIFIED:20250518T104619Z
UID:4880-1749229200-1749243600@sorrento.org.au
SUMMARY:Soul Night Market
DESCRIPTION:Soul Night Market is delighted to head to another iconic venue Sorrento Beach overlooking Port Philip Bay so you can Shop\, Eat\, Drink and Socialise at this festive\, foodie and makers market held in Melbourne’s South East Suburbs\, giving people the opportunity to experience a taste of the vibe and culture of City Night Markets\, in their own neighbourhood.\n\nWith up to 20 different street food and drink trucks plus between 40+ makers stalls and live Soul Music it is a great place to catch up with friends on a Friday Night.
URL:https://sorrento.org.au/event/soul-night-market/
LOCATION:Sorrento Foreshore\, Esplanade\, Sorrento\, Victoria\, 3943\, Australia
CATEGORIES:Food and Wine,Taste Sorrento
ATTACH;FMTTYPE=image/png:https://sorrento.org.au/wp-content/uploads/2025/03/May8_SoulNightMarket.png
GEO:-38.338642;144.744415
X-APPLE-STRUCTURED-LOCATION;VALUE=URI;X-ADDRESS=Sorrento Foreshore Esplanade Sorrento Victoria 3943 Australia;X-APPLE-RADIUS=500;X-TITLE=Esplanade:geo:144.744415,-38.338642
END:VEVENT
END:VCALENDAR