BEGIN:VCALENDAR
VERSION:2.0
PRODID:-//Sorrento Village - ECPv6.15.17.1//NONSGML v1.0//EN
CALSCALE:GREGORIAN
METHOD:PUBLISH
X-ORIGINAL-URL:https://sorrento.org.au
X-WR-CALDESC:Events for Sorrento Village
REFRESH-INTERVAL;VALUE=DURATION:PT1H
X-Robots-Tag:noindex
X-PUBLISHED-TTL:PT1H
BEGIN:VTIMEZONE
TZID:Australia/Melbourne
BEGIN:STANDARD
TZOFFSETFROM:+1100
TZOFFSETTO:+1000
TZNAME:AEST
DTSTART:20250405T160000
END:STANDARD
BEGIN:DAYLIGHT
TZOFFSETFROM:+1000
TZOFFSETTO:+1100
TZNAME:AEDT
DTSTART:20251004T160000
END:DAYLIGHT
BEGIN:STANDARD
TZOFFSETFROM:+1100
TZOFFSETTO:+1000
TZNAME:AEST
DTSTART:20260404T160000
END:STANDARD
BEGIN:DAYLIGHT
TZOFFSETFROM:+1000
TZOFFSETTO:+1100
TZNAME:AEDT
DTSTART:20261003T160000
END:DAYLIGHT
BEGIN:STANDARD
TZOFFSETFROM:+1100
TZOFFSETTO:+1000
TZNAME:AEST
DTSTART:20270403T160000
END:STANDARD
BEGIN:DAYLIGHT
TZOFFSETFROM:+1000
TZOFFSETTO:+1100
TZNAME:AEDT
DTSTART:20271002T160000
END:DAYLIGHT
END:VTIMEZONE
BEGIN:VEVENT
DTSTART;TZID=Australia/Melbourne:20260423T090000
DTEND;TZID=Australia/Melbourne:20260426T180000
DTSTAMP:20260420T104823
CREATED:20260304T012432Z
LAST-MODIFIED:20260304T020018Z
UID:10000037-1776934800-1777226400@sorrento.org.au
SUMMARY:Sorrento Writers Festival
DESCRIPTION:One of Victoria’s most celebrated cultural events returns to The Continental Sorrento for four days of author talks\, panel discussions\, live performances\, a Schools Program and a vibrant Family Afternoon. Featuring Australia’s leading writers\, journalists\, thinkers and performers\, the Sorrento Writers Festival is an unmissable highlight of the Mornington Peninsula’s cultural calendar. Presented across multiple sessions over four glorious autumn days by the bay.
URL:https://sorrento.org.au/event/sorrento-writers-festival-2/
LOCATION:Victoria
CATEGORIES:Arts & Culture,Festivals
ATTACH;FMTTYPE=image/jpeg:https://sorrento.org.au/wp-content/uploads/2026/03/Sorrento-Writers-Festival.avif
END:VEVENT
BEGIN:VEVENT
DTSTART;TZID=Australia/Melbourne:20260424T160000
DTEND;TZID=Australia/Melbourne:20260424T180000
DTSTAMP:20260420T104823
CREATED:20260417T003958Z
LAST-MODIFIED:20260417T003959Z
UID:10000044-1777046400-1777053600@sorrento.org.au
SUMMARY:
DESCRIPTION:The Sorrento Portsea RSL\, in conjunction with The Mens Shed\, and sponsors Car City are calling \non our support to help make their Trivia Sunday event on 24th May 2026 a success. \nAll proceeds from the night will be donated to The Sorrento and Capel Sound Dementia Cafe’s \nmaking a diﬀerence in the lives of people diagnosed with Dementia . Our support will directly \nhelp continue this incredible legacy of care\, opportunity\, and positive impact. \nThe RSL has secured the Legendary Brian Nankervis co-hosting ‘RocKwiz’\,’The Friday Revue’ \nwith Jacinta Parsons and has had as all in hysterics when he appeared regularly on ‘Hey Hey It’s \nSaturday’ as poet Raymond J Bartholomeuz. \nThis is a wonderful opportunity for our members and the wider community to come together for a \nfun day out while supporting a truly meaningful cause. The RSL and Mens Shed would love to \nsee this grow into an annual event that everyone can support and look forward to each year. \nThank you so much\, we hope to see as many of our members support this special event! \nGrab your tickets today at tomkatz.com.au or scan the QR code below.
URL:https://sorrento.org.au/event/6031/
LOCATION:Sorrento Portsea RSL\, 1 Hurley Street\, Sorrento\, Victoria\, 3943\, Australia
CATEGORIES:Charity
ATTACH;FMTTYPE=image/png:https://sorrento.org.au/wp-content/uploads/2026/04/Screenshot-2026-04-17-at-10.35.24-am.avif
END:VEVENT
BEGIN:VEVENT
DTSTART;TZID=Australia/Melbourne:20260522T050000
DTEND;TZID=Australia/Melbourne:20260522T180000
DTSTAMP:20260420T104823
CREATED:20260304T012434Z
LAST-MODIFIED:20260304T015900Z
UID:10000038-1779426000-1779472800@sorrento.org.au
SUMMARY:Coastrek Mornington Peninsula 2026
DESCRIPTION:Coastrek Mornington Peninsula is a team-based charity hiking challenge proudly supporting Beyond Blue and mental health awareness. Teams of two or more take on one of three spectacular coastal routes — 20km starting from Sorrento\, 30km from Point Nepean\, or the ultimate 50km from Cape Schanck — all finishing at Point Nepean. Experience sunrise over Cape Schanck\, panoramic views from Point Nepean\, wild beaches and breathtaking clifftop tracks. Each participant pledges to raise $500 for Beyond Blue. Register at coastrek.com.au
URL:https://sorrento.org.au/event/coastrek-mornington-peninsula-2026/
LOCATION:Victoria
CATEGORIES:Sport & Fitness
ATTACH;FMTTYPE=image/png:https://sorrento.org.au/wp-content/uploads/2026/03/Screenshot-2026-03-04-at-12.58.12-pm.avif
END:VEVENT
BEGIN:VEVENT
DTSTART;TZID=Australia/Melbourne:20260531T120000
DTEND;TZID=Australia/Melbourne:20260531T160000
DTSTAMP:20260420T104823
CREATED:20260403T044316Z
LAST-MODIFIED:20260409T034915Z
UID:10000043-1780228800-1780243200@sorrento.org.au
SUMMARY:The Chef's Lunch
DESCRIPTION:One afternoon. Seven of the Mornington Peninsula’s finest culinary minds. An experience worth savouring. \nThe Chef’s Lunch is a premium gala dining event bringing together an extraordinary lineup of local venues for a curated\, collaborative menu that celebrates the very best of Peninsula food and drink. Taking place in Sorrento on Sunday 31 May 2026\, this is one of the region’s most anticipated culinary occasions. \nThis year’s Chef’s Lunch features: \n\nOnda\nPompette\nThe Continental Sorrento\nAlturo\nItalico\nMubble\n\nGuests will enjoy a carefully curated lunch with a selection of wines and beers\, welcome entertainment\, and an address from guest speaker Russel Howcroft\, voice of 3AW Breakfast and one of Australia’s most compelling storytellers. \nThe event proudly supports the Sorrento Chamber of Commerce and the Portsea Camp\, with fundraising on the day directed to the Making a Difference Program\, which provides life-changing seaside experiences for Victorian children from disadvantaged backgrounds. \n\nDate: Sunday 31 May 2026\nTime: 12pm to 4pm\nLocation: Sorrento\, Mornington Peninsula\, Victoria\nTickets: from $180 (early bird)\n\nSeats are strictly limited.
URL:https://sorrento.org.au/event/the-chefs-lunch/
LOCATION:The Continental Sorrento\, 1-21 Ocean Beach Road\, Sorrento\, Victoria\, 3943\, Australia
CATEGORIES:Community,Food & Wine
ATTACH;FMTTYPE=image/avif:https://sorrento.org.au/wp-content/uploads/2026/04/The-Chefs-Lunch-2026-Event-Listing.avif
ORGANIZER;CN="Sorrento Chamber of Commerce":MAILTO:info@sorrento.org.au
END:VEVENT
BEGIN:VEVENT
DTSTART;TZID=Australia/Melbourne:20260620T140000
DTEND;TZID=Australia/Melbourne:20260620T213000
DTSTAMP:20260420T104823
CREATED:20260304T012437Z
LAST-MODIFIED:20260304T015651Z
UID:10000040-1781964000-1781991000@sorrento.org.au
SUMMARY:Sorrento Solstice Festival
DESCRIPTION:One of Victoria’s most magical winter events — the Sorrento Fire Night returns to the Sorrento Foreshore for the Winter Solstice. Watch in awe as fire twirlers and performers light up the night sky\, a spectacular 6-metre Burning Statue effigy is set ablaze\, and the foreshore is transformed with beautifully lit trees\, live music\, local DJs\, and market stalls with gourmet food and mulled wine. A free community event beloved by locals and visitors alike. \n  \nMore information to come!
URL:https://sorrento.org.au/event/sorrento-fire-night-winter-solstice-spectacular/
LOCATION:Sorrento Foreshore\, Esplanade\, Sorrento\, Victoria\, 3943\, Australia
CATEGORIES:Festivals
ATTACH;FMTTYPE=image/png:https://sorrento.org.au/wp-content/uploads/2025/02/Firefly-20250501195132.png
GEO:-38.338642;144.744415
X-APPLE-STRUCTURED-LOCATION;VALUE=URI;X-ADDRESS=Sorrento Foreshore Esplanade Sorrento Victoria 3943 Australia;X-APPLE-RADIUS=500;X-TITLE=Esplanade:geo:144.744415,-38.338642
END:VEVENT
END:VCALENDAR