BEGIN:VCALENDAR
VERSION:2.0
PRODID:-//Sorrento Village - ECPv6.15.17.1//NONSGML v1.0//EN
CALSCALE:GREGORIAN
METHOD:PUBLISH
X-ORIGINAL-URL:https://sorrento.org.au
X-WR-CALDESC:Events for Sorrento Village
REFRESH-INTERVAL;VALUE=DURATION:PT1H
X-Robots-Tag:noindex
X-PUBLISHED-TTL:PT1H
BEGIN:VTIMEZONE
TZID:Australia/Melbourne
BEGIN:STANDARD
TZOFFSETFROM:+1100
TZOFFSETTO:+1000
TZNAME:AEST
DTSTART:20240406T160000
END:STANDARD
BEGIN:DAYLIGHT
TZOFFSETFROM:+1000
TZOFFSETTO:+1100
TZNAME:AEDT
DTSTART:20241005T160000
END:DAYLIGHT
BEGIN:STANDARD
TZOFFSETFROM:+1100
TZOFFSETTO:+1000
TZNAME:AEST
DTSTART:20250405T160000
END:STANDARD
BEGIN:DAYLIGHT
TZOFFSETFROM:+1000
TZOFFSETTO:+1100
TZNAME:AEDT
DTSTART:20251004T160000
END:DAYLIGHT
BEGIN:STANDARD
TZOFFSETFROM:+1100
TZOFFSETTO:+1000
TZNAME:AEST
DTSTART:20260404T160000
END:STANDARD
BEGIN:DAYLIGHT
TZOFFSETFROM:+1000
TZOFFSETTO:+1100
TZNAME:AEDT
DTSTART:20261003T160000
END:DAYLIGHT
END:VTIMEZONE
BEGIN:VEVENT
DTSTART;TZID=Australia/Melbourne:20250613T170000
DTEND;TZID=Australia/Melbourne:20250613T190000
DTSTAMP:20260424T043035
CREATED:20250529T102300Z
LAST-MODIFIED:20250529T102300Z
UID:10000014-1749834000-1749841200@sorrento.org.au
SUMMARY:Hotel Sorrento Raffle
DESCRIPTION:Join us on Thursday\, 13 June at Hotel Sorrento for a special Raffle Night in support of Sorrento’s community events. Try your luck in our thrilling raffle\, bid on exclusive auction items and enjoy a great night out\, all while bringing events back to Sorrento for friends and family. \nDon’t miss this chance to win big and give back!
URL:https://sorrento.org.au/event/hotel-sorrento-raffle/
LOCATION:Hotel Sorrento\, 5/15 Hotham Road\, Sorrento\, Victoria\, 3943\, Australia
CATEGORIES:Food and Wine,Taste Sorrento
ORGANIZER;CN="Sorrento Chamber of Commerce":MAILTO:info@sorrento.org.au
END:VEVENT
END:VCALENDAR